BEGIN:VCALENDAR
VERSION:2.0
PRODID:-//ChamberMaster//Event Calendar 2.0//EN
METHOD:PUBLISH
X-PUBLISHED-TTL:P3D
REFRESH-INTERVAL:P3D
CALSCALE:GREGORIAN
BEGIN:VEVENT
DTSTART:20230325T150000Z
DTEND:20230325T160000Z
X-MICROSOFT-CDO-ALLDAYEVENT:FALSE
SUMMARY:Easter Egg Hunt
DESCRIPTION:Easter Egg Hunt hosted by Wahoo Grotto will take place at 10 am on Saturday\, March 25th at the John Mitchell Masonic Lodge located at 3926 FM 646\, Santa Fe.\n\n\n\nBring your own Easter Baskets ~ Four eggs will have a special prize associated with them.\n\n\n\nRefreshments will be served prior to the hunt. For information call Alan Booth at 979-236-5084.\n\n\n\nPlease arrive by 9:30 a.m.
X-ALT-DESC;FMTTYPE=text/html:Easter Egg Hunt hosted by Wahoo Grotto will take place at 10 am on Saturday\, March 25th at the John Mitchell Masonic Lodge located at 3926 FM 646\, Santa Fe.<br />\n<br />\nBring your own Easter Baskets ~ Four eggs will have a special prize associated with them.<br />\n<br />\nRefreshments will be served prior to the hunt. For information call Alan Booth at 979-236-5084.<br />\n<br />\nPlease arrive by 9:30 a.m.
LOCATION:John Mitchell Masonic Lodge\, 3926 FM 646\, Santa Fe
UID:e.451.8190
SEQUENCE:3
DTSTAMP:20260420T073126Z
URL:https://www.santafetxchamber.com/events/details/easter-egg-hunt-8190
END:VEVENT

END:VCALENDAR
