BEGIN:VCALENDAR
VERSION:2.0
PRODID:-//ChamberMaster//Event Calendar 2.0//EN
METHOD:PUBLISH
X-PUBLISHED-TTL:P3D
REFRESH-INTERVAL:P3D
CALSCALE:GREGORIAN
BEGIN:VEVENT
DTSTART:20190427T150000Z
DTEND:20190427T210000Z
X-MICROSOFT-CDO-ALLDAYEVENT:FALSE
SUMMARY:Earth Day Festival
DESCRIPTION:Family Friendly\n\nEarth Day Activities\n\nBasketball Tournament\n\nVendors & Food Trucks...
X-ALT-DESC;FMTTYPE=text/html:Family Friendly<br />\nEarth Day Activities<br />\nBasketball Tournament<br />\nVendors &amp\; Food Trucks...
LOCATION:
UID:e.451.7020
SEQUENCE:3
DTSTAMP:20260423T021634Z
URL:https://www.santafetxchamber.com/events/details/earth-day-festival-7020
END:VEVENT

END:VCALENDAR
