BEGIN:VCALENDAR
VERSION:2.0
PRODID:-//ChamberMaster//Event Calendar 2.0//EN
METHOD:PUBLISH
X-PUBLISHED-TTL:P3D
REFRESH-INTERVAL:P3D
CALSCALE:GREGORIAN
BEGIN:VEVENT
DTSTART;VALUE=DATE:20161025
DTEND;VALUE=DATE:20161026
TRANSP:TRANSPARENT
X-MICROSOFT-CDO-ALLDAYEVENT:TRUE
SUMMARY:DW Florals & Gifts Open House & Ribbon Cutting
DESCRIPTION:DW Florals & Gifts has expanded their business.  Join us in celebrating their success.
X-ALT-DESC;FMTTYPE=text/html:DW Florals&nbsp\;&amp\; Gifts has expanded their business. &nbsp\;Join us in celebrating their success.
LOCATION:DW Florals & Gifts 12625 Highway 6 Santa Fe\, Texas
UID:e.451.6134
SEQUENCE:3
DTSTAMP:20260424T220112Z
URL:https://www.santafetxchamber.com/events/details/dw-florals-gifts-open-house-ribbon-cutting-6134
END:VEVENT

END:VCALENDAR
