BEGIN:VCALENDAR
VERSION:2.0
PRODID:-//ChamberMaster//Event Calendar 2.0//EN
METHOD:PUBLISH
X-PUBLISHED-TTL:P3D
REFRESH-INTERVAL:P3D
CALSCALE:GREGORIAN
BEGIN:VEVENT
DTSTART:20190330T133000Z
DTEND:20190330T170000Z
X-MICROSOFT-CDO-ALLDAYEVENT:FALSE
SUMMARY:Don't Mess with Texas Trash Off
DESCRIPTION:Help Keep Santa Fe Beautiful go head to head with Dickinson during the Don't Mess with Texas Trash-Off.
X-ALT-DESC;FMTTYPE=text/html:Help Keep Santa Fe Beautiful go head to head with Dickinson during the Don&#39\;t Mess with Texas Trash-Off.
LOCATION:
UID:e.451.7014
SEQUENCE:3
DTSTAMP:20260423T033021Z
URL:https://www.santafetxchamber.com/events/details/don-t-mess-with-texas-trash-off-7014
END:VEVENT

END:VCALENDAR
