BEGIN:VCALENDAR
VERSION:2.0
PRODID:-//ChamberMaster//Event Calendar 2.0//EN
METHOD:PUBLISH
X-PUBLISHED-TTL:P3D
REFRESH-INTERVAL:P3D
CALSCALE:GREGORIAN
BEGIN:VEVENT
DTSTART:20150521T160000Z
DTEND:20150521T180000Z
X-MICROSOFT-CDO-ALLDAYEVENT:FALSE
SUMMARY:DeMontrond Grand Reopening/Ribbon Cutting
DESCRIPTION:Toyota Building\n\n3260 Gulf Freeway\n\nTexas City\n\n11a-1p
X-ALT-DESC;FMTTYPE=text/html:Toyota Building<br />\n3260 Gulf Freeway<br />\nTexas City<br />\n11a-1p
LOCATION:
UID:e.451.4087
SEQUENCE:3
DTSTAMP:20260426T040720Z
URL:https://www.santafetxchamber.com/events/details/demontrond-grand-reopening-ribbon-cutting-05-21-2015-4087
END:VEVENT

END:VCALENDAR
