BEGIN:VCALENDAR
VERSION:2.0
PRODID:-//ChamberMaster//Event Calendar 2.0//EN
METHOD:PUBLISH
X-PUBLISHED-TTL:P3D
REFRESH-INTERVAL:P3D
CALSCALE:GREGORIAN
BEGIN:VEVENT
DTSTART:20170413T180000Z
DTEND:20170413T230000Z
X-MICROSOFT-CDO-ALLDAYEVENT:FALSE
SUMMARY:Constable Jimmy Fullen's Spring Country Classic Golf Tournament
DESCRIPTION:Moody Gardens Golf Course
X-ALT-DESC;FMTTYPE=text/html:Moody Gardens Golf Course
LOCATION:
UID:e.451.6186
SEQUENCE:3
DTSTAMP:20260424T123654Z
URL:https://www.santafetxchamber.com/events/details/constable-jimmy-fullen-s-spring-country-classic-golf-tournament-6186
END:VEVENT

END:VCALENDAR
