BEGIN:VCALENDAR
VERSION:2.0
PRODID:-//ChamberMaster//Event Calendar 2.0//EN
METHOD:PUBLISH
X-PUBLISHED-TTL:P3D
REFRESH-INTERVAL:P3D
CALSCALE:GREGORIAN
BEGIN:VEVENT
DTSTART:20180819T233000Z
DTEND:20180820T010000Z
X-MICROSOFT-CDO-ALLDAYEVENT:FALSE
SUMMARY:Community Prayer for Our Schools
DESCRIPTION:One Tribe Under God\n\nJoin us as we prepare to start the 2018-19 school year with a time of prayer for our schools\, students\, faculty\, staff and I.S.D. police department.
X-ALT-DESC;FMTTYPE=text/html:One Tribe Under God<br />\nJoin us as we prepare to start the 2018-19 school year with a time of prayer for our schools\, students\, faculty\, staff and I.S.D. police department.
LOCATION:Santa Fe High School Flag Pole
UID:e.451.6639
SEQUENCE:3
DTSTAMP:20260423T175817Z
URL:https://www.santafetxchamber.com/events/details/community-prayer-for-our-schools-6639
END:VEVENT

END:VCALENDAR
