BEGIN:VCALENDAR
VERSION:2.0
PRODID:-//ChamberMaster//Event Calendar 2.0//EN
METHOD:PUBLISH
X-PUBLISHED-TTL:P3D
REFRESH-INTERVAL:P3D
CALSCALE:GREGORIAN
BEGIN:VEVENT
DTSTART:20170408T153000Z
DTEND:20170408T170000Z
X-MICROSOFT-CDO-ALLDAYEVENT:FALSE
SUMMARY:Community Easter Egg Hunt
DESCRIPTION:Joe A. Tambrella Park - Next to Mae S. Bruce Library\n\nThe Santa Fe Parks & Recreation Board will sponsor their Annual Easter Egg Hunt for the children of Santa Fe and surrounding areas.
X-ALT-DESC;FMTTYPE=text/html:Joe A. Tambrella Park - Next to Mae S. Bruce Library<br />\nThe Santa Fe Parks &amp\; Recreation Board will sponsor their Annual Easter Egg Hunt for the children of Santa Fe and surrounding areas.
LOCATION:
UID:e.451.6184
SEQUENCE:3
DTSTAMP:20260424T122909Z
URL:https://www.santafetxchamber.com/events/details/community-easter-egg-hunt-6184
END:VEVENT

END:VCALENDAR
