BEGIN:VCALENDAR
VERSION:2.0
PRODID:-//ChamberMaster//Event Calendar 2.0//EN
METHOD:PUBLISH
X-PUBLISHED-TTL:P3D
REFRESH-INTERVAL:P3D
CALSCALE:GREGORIAN
BEGIN:VEVENT
DTSTART:20180717T010000Z
DTEND:20180717T040000Z
X-MICROSOFT-CDO-ALLDAYEVENT:FALSE
SUMMARY:COM Theatre presents Cry-Baby
DESCRIPTION:A Rock & Roll Musical\n\nTickets: www.com.edu/theatre or 409-933-8345
X-ALT-DESC;FMTTYPE=text/html:A Rock &amp\; Roll Musical<br>\nTickets: <a href="http://www.com.edu/theatre">www.com.edu/theatre</a> or 409-933-8345
LOCATION:
UID:e.451.6601
SEQUENCE:3
DTSTAMP:20260423T193156Z
URL:https://www.santafetxchamber.com/events/details/com-theatre-presents-cry-baby-07-16-2018-6601
END:VEVENT

END:VCALENDAR
