BEGIN:VCALENDAR
VERSION:2.0
PRODID:-//ChamberMaster//Event Calendar 2.0//EN
METHOD:PUBLISH
X-PUBLISHED-TTL:P3D
REFRESH-INTERVAL:P3D
CALSCALE:GREGORIAN
BEGIN:VEVENT
DTSTART:20161001T160000Z
DTEND:20161001T200000Z
X-MICROSOFT-CDO-ALLDAYEVENT:FALSE
SUMMARY:COM's 50th Birthday Bash - A Family Day Event
DESCRIPTION:You're invited to COM's 50th Birthday Bash featuring Free Live Music\, Kids Entertainment\, Birthday Cake\, Demonstrations & Exhibits\, Food Trucks and Campus Tours.
X-ALT-DESC;FMTTYPE=text/html:You&#39\;re invited to COM&#39\;s 50th&nbsp\;Birthday Bash featuring Free Live Music\, Kids Entertainment\, Birthday Cake\, Demonstrations &amp\; Exhibits\, Food Trucks and Campus Tours.
LOCATION:College of the Mainland Texas City\, Texas
UID:e.451.5840
SEQUENCE:3
DTSTAMP:20260424T215358Z
URL:https://www.santafetxchamber.com/events/details/com-s-50th-birthday-bash-a-family-day-event-5840
END:VEVENT

END:VCALENDAR
