BEGIN:VCALENDAR
VERSION:2.0
PRODID:-//ChamberMaster//Event Calendar 2.0//EN
METHOD:PUBLISH
X-PUBLISHED-TTL:P3D
REFRESH-INTERVAL:P3D
CALSCALE:GREGORIAN
BEGIN:VEVENT
DTSTART:20160915T230000Z
DTEND:20160916T020000Z
X-MICROSOFT-CDO-ALLDAYEVENT:FALSE
SUMMARY:COM's 50th Anniversary Gala
DESCRIPTION:Join the College of the Mainland Foundation in honoring\n\nDistinguished COM Alumni.
X-ALT-DESC;FMTTYPE=text/html:<span style="color:#343D3A\;"><span style="font-family:georgia\,serif\;">Join the College of the Mainland Foundation in honoring</span></span><br />\n<span style="color:#343D3A\;"><span style="font-family:georgia\,serif\;">Distinguished COM Alumni.</span></span><br />\n&nbsp\;&nbsp\;&nbsp\;&nbsp\;
LOCATION:Charles T. Doyle Center Texas City\, Texas
UID:e.451.5222
SEQUENCE:3
DTSTAMP:20260425T025227Z
URL:https://www.santafetxchamber.com/events/details/com-s-50th-anniversary-gala-09-15-2016-5222
END:VEVENT

END:VCALENDAR
