BEGIN:VCALENDAR
VERSION:2.0
PRODID:-//ChamberMaster//Event Calendar 2.0//EN
METHOD:PUBLISH
X-PUBLISHED-TTL:P3D
REFRESH-INTERVAL:P3D
CALSCALE:GREGORIAN
BEGIN:VEVENT
DTSTART:20181022T190000Z
DTEND:20181022T210000Z
X-MICROSOFT-CDO-ALLDAYEVENT:FALSE
SUMMARY:COM Conference Center Grand Opening & Ribbon Cuttings
DESCRIPTION:Please plan to join College of the Mainland Board of Trustees and COM President\, Dr. Warren Nichols for a grand opening of the new COM Conference Center and the completion of other maintenance projects on campus.
X-ALT-DESC;FMTTYPE=text/html:Please plan to join College of the Mainland Board of Trustees and COM President\, Dr. Warren Nichols for a grand opening of the new COM Conference Center and the completion of other maintenance projects on campus.
LOCATION:
UID:e.451.6635
SEQUENCE:3
DTSTAMP:20260423T132349Z
URL:https://www.santafetxchamber.com/events/details/com-conference-center-grand-opening-ribbon-cuttings-6635
END:VEVENT

END:VCALENDAR
