BEGIN:VCALENDAR
VERSION:2.0
PRODID:-//ChamberMaster//Event Calendar 2.0//EN
METHOD:PUBLISH
X-PUBLISHED-TTL:P3D
REFRESH-INTERVAL:P3D
CALSCALE:GREGORIAN
BEGIN:VEVENT
DTSTART:20180321T170000Z
DTEND:20180321T183000Z
X-MICROSOFT-CDO-ALLDAYEVENT:FALSE
SUMMARY:COM Academic Master Plan Community Forum
DESCRIPTION:
X-ALT-DESC;FMTTYPE=text/html:
LOCATION:Dickinson Rotary Club at Dickinson ISD Building 2218 FM 517 East Dickinson\, TX 77539
UID:e.451.6586
SEQUENCE:3
DTSTAMP:20260423T235007Z
URL:https://www.santafetxchamber.com/events/details/com-academic-master-plan-community-forum-6586
END:VEVENT

END:VCALENDAR
