BEGIN:VCALENDAR
VERSION:2.0
PRODID:-//ChamberMaster//Event Calendar 2.0//EN
METHOD:PUBLISH
X-PUBLISHED-TTL:P3D
REFRESH-INTERVAL:P3D
CALSCALE:GREGORIAN
BEGIN:VEVENT
DTSTART:20180227T233000Z
DTEND:20180228T010000Z
X-MICROSOFT-CDO-ALLDAYEVENT:FALSE
SUMMARY:COM Academic Master Plan Community Forum
DESCRIPTION:
X-ALT-DESC;FMTTYPE=text/html:
LOCATION:Texas City/La Marque Chamber Office 9702 Emmett Lowry Expressway Texas City\, TX 77591
UID:e.451.6585
SEQUENCE:3
DTSTAMP:20260424T024215Z
URL:https://www.santafetxchamber.com/events/details/com-academic-master-plan-community-forum-6585
END:VEVENT

END:VCALENDAR
