BEGIN:VCALENDAR
VERSION:2.0
PRODID:-//ChamberMaster//Event Calendar 2.0//EN
METHOD:PUBLISH
X-PUBLISHED-TTL:P3D
REFRESH-INTERVAL:P3D
CALSCALE:GREGORIAN
BEGIN:VEVENT
DTSTART:20190427T150000Z
DTEND:20190427T210000Z
X-MICROSOFT-CDO-ALLDAYEVENT:FALSE
SUMMARY:Color the Can Art Contest
DESCRIPTION:Help us color the trash cans and beautify our City...\n\nCans must be picked up by 5 pm on Friday\, April 5th\n\nNo cost to participate - No age or skill requirement
X-ALT-DESC;FMTTYPE=text/html:Help us color the trash cans and beautify our City...<br />\nCans must be picked up by 5 pm on Friday\, April 5th<br />\nNo cost to participate - No age or skill requirement
LOCATION:
UID:e.451.7256
SEQUENCE:3
DTSTAMP:20260423T021608Z
URL:https://www.santafetxchamber.com/events/details/color-the-can-art-contest-7256
END:VEVENT

END:VCALENDAR
