BEGIN:VCALENDAR
VERSION:2.0
PRODID:-//ChamberMaster//Event Calendar 2.0//EN
METHOD:PUBLISH
X-PUBLISHED-TTL:P3D
REFRESH-INTERVAL:P3D
CALSCALE:GREGORIAN
BEGIN:VEVENT
DTSTART;VALUE=DATE:20160906
DTEND;VALUE=DATE:20160907
TRANSP:TRANSPARENT
X-MICROSOFT-CDO-ALLDAYEVENT:TRUE
SUMMARY:College of the Mainland Public Forum
DESCRIPTION:The public is invited to participate in specifying the qualifications\, past performance and character of the ideal presidential candidate to lead College of the Mainland.
X-ALT-DESC;FMTTYPE=text/html:The public is invited to participate in specifying the qualifications\, past performance and character of the ideal presidential candidate to lead College of the Mainland.&nbsp\;&nbsp\;&nbsp\;&nbsp\;
LOCATION:
UID:e.451.5988
SEQUENCE:3
DTSTAMP:20260425T011244Z
URL:https://www.santafetxchamber.com/events/details/college-of-the-mainland-public-forum-5988
END:VEVENT

END:VCALENDAR
