BEGIN:VCALENDAR
VERSION:2.0
PRODID:-//ChamberMaster//Event Calendar 2.0//EN
METHOD:PUBLISH
X-PUBLISHED-TTL:P3D
REFRESH-INTERVAL:P3D
CALSCALE:GREGORIAN
BEGIN:VEVENT
DTSTART:20180222T030000Z
DTEND:20180222T040000Z
X-MICROSOFT-CDO-ALLDAYEVENT:FALSE
SUMMARY:Coffee with a Cop
DESCRIPTION:Amegy Bank\n\n13030 Highway 6\n\nSanta Fe\, TX 77510
X-ALT-DESC;FMTTYPE=text/html:Amegy Bank<br />\n13030 Highway 6<br />\nSanta Fe\, TX 77510
LOCATION:
UID:e.451.6584
SEQUENCE:3
DTSTAMP:20260424T012043Z
URL:https://www.santafetxchamber.com/events/details/coffee-with-a-cop-6584
END:VEVENT

END:VCALENDAR
