BEGIN:VCALENDAR
VERSION:2.0
PRODID:-//ChamberMaster//Event Calendar 2.0//EN
METHOD:PUBLISH
X-PUBLISHED-TTL:P3D
REFRESH-INTERVAL:P3D
CALSCALE:GREGORIAN
BEGIN:VEVENT
DTSTART:20180427T130000Z
DTEND:20180427T140000Z
X-MICROSOFT-CDO-ALLDAYEVENT:FALSE
SUMMARY:Coffee & Collaboration with SFISD Superintendent
DESCRIPTION:Everyone is welcome at this informal\, collaborative group of community members in a round table discussion of many areas of the district.
X-ALT-DESC;FMTTYPE=text/html:Everyone is welcome at this informal\, collaborative group of community members in a round table discussion of many areas of the district.
LOCATION:Elizabeth Yaws Cowan Education Center 4133 Warpath Santa Fe\, TX 77510
UID:e.451.6591
SEQUENCE:3
DTSTAMP:20260423T221530Z
URL:https://www.santafetxchamber.com/events/details/coffee-collaboration-with-sfisd-superintendent-6591
END:VEVENT

END:VCALENDAR
