BEGIN:VCALENDAR
VERSION:2.0
PRODID:-//ChamberMaster//Event Calendar 2.0//EN
METHOD:PUBLISH
X-PUBLISHED-TTL:P3D
REFRESH-INTERVAL:P3D
CALSCALE:GREGORIAN
BEGIN:VEVENT
DTSTART:20170407T130000Z
DTEND:20170407T140000Z
X-MICROSOFT-CDO-ALLDAYEVENT:FALSE
SUMMARY:Coffee ~ Collaberation ~ Community
DESCRIPTION:Join SFISD Superintendent Dr. Leigh Wall for Coffee\n\nElizabeth Yaws Cowan Education Center\n\n\n\nYou are invited to join an informal collaborative group of community members in a round table discussion of many areas of the district including topics such as Athletics\, Academics\, Campuses\, CTE\, Fine Arts\, Technology\, Finance\, Facilities and more.
X-ALT-DESC;FMTTYPE=text/html:Join SFISD&nbsp\;Superintendent Dr. Leigh Wall for Coffee<br />\nElizabeth Yaws Cowan Education Center<br />\n<br />\nYou are invited to join an informal collaborative group of community members in a round table discussion of many areas of the district including topics such as Athletics\, Academics\, Campuses\, CTE\, Fine Arts\, Technology\, Finance\, Facilities and more.
LOCATION:
UID:e.451.6181
SEQUENCE:3
DTSTAMP:20260424T140757Z
URL:https://www.santafetxchamber.com/events/details/coffee-collaberation-community-6181
END:VEVENT

END:VCALENDAR
