BEGIN:VCALENDAR
VERSION:2.0
PRODID:-//ChamberMaster//Event Calendar 2.0//EN
METHOD:PUBLISH
X-PUBLISHED-TTL:P3D
REFRESH-INTERVAL:P3D
CALSCALE:GREGORIAN
BEGIN:VEVENT
DTSTART:20190111T010000Z
DTEND:20190111T020000Z
X-MICROSOFT-CDO-ALLDAYEVENT:FALSE
SUMMARY:City Council Meeting
DESCRIPTION:The City of Santa Fe operates under the Council-Manager form of government. The City Council\, consisting of a Mayor and five Council members elected at large by the people\, is the governing body of the City. The City Council enacts local legislation\, adopts budgets\, determines policies\, sets the tax rate and hires a city manager to administer the city's day-to-day affairs. The City Council is responsible for the scope and functions of the city government through policy-making. This can be accomplished by identifying the needs of local residents\, formulating programs to meet the changing requirements of the community\, and measuring the effectiveness of ongoing municipal services.
X-ALT-DESC;FMTTYPE=text/html:<span style="background:white\;"><span style="color:#474747\;"><span style="font-family:verdana\,sans-serif\;"><span style="font-size:12.0pt\;">The City of Santa Fe operates under the Council-Manager form of government. The City Council\, consisting of a Mayor and five Council members elected at large by the people\, is the governing body of the City. The City Council enacts local legislation\, adopts budgets\, determines policies\, sets the tax rate and hires a city manager to administer the city&#39\;s day-to-day affairs. The City Council is responsible for the scope and functions of the city government through policy-making. This can be accomplished by identifying the needs of local&nbsp\;residents\, formulating programs to meet the changing requirements of the community\, and measuring the effectiveness of ongoing municipal services.</span></span></span></span>
LOCATION:
UID:e.451.6872
SEQUENCE:3
DTSTAMP:20260423T074224Z
URL:https://www.santafetxchamber.com/events/details/city-council-meeting-6872
END:VEVENT

END:VCALENDAR
