BEGIN:VCALENDAR
VERSION:2.0
PRODID:-//ChamberMaster//Event Calendar 2.0//EN
METHOD:PUBLISH
X-PUBLISHED-TTL:P3D
REFRESH-INTERVAL:P3D
CALSCALE:GREGORIAN
BEGIN:VEVENT
DTSTART:20170505T200000Z
DTEND:20170505T230000Z
X-MICROSOFT-CDO-ALLDAYEVENT:FALSE
SUMMARY:Cinco de Golfo on Cinco de Mayo
DESCRIPTION:SWING on over to TOPGOLF ~ It's PAR-TEE Time!!!\n\nMark your calendar for Cinco de Golfo on Cinco de Mayo \n\nJoin us for Fajitas\, Margaritas and a HOLE lot of FUN\, FUN\, FUN...
X-ALT-DESC;FMTTYPE=text/html:<span style="font-size:14px\;"><span style="color:#A40000\;"><span style="font-family:georgia\,serif\;">SWING on over to TOPGOLF ~ It&#39\;s PAR-TEE Time!!!</span></span><br />\n<span style="color:#A40000\;"><span style="font-family:georgia\,serif\;">Mark your calendar for Cinco de Golfo on Cinco de Mayo&nbsp\;<br />\nJoin us for Fajitas\, Margaritas and a HOLE lot of FUN\, FUN\, FUN...</span></span></span>
LOCATION:Top Golf~Webster
UID:e.451.6178
SEQUENCE:3
DTSTAMP:20260424T112650Z
URL:https://www.santafetxchamber.com/events/details/cinco-de-golfo-on-cinco-de-mayo-6178
END:VEVENT

END:VCALENDAR
