BEGIN:VCALENDAR
VERSION:2.0
PRODID:-//ChamberMaster//Event Calendar 2.0//EN
METHOD:PUBLISH
X-PUBLISHED-TTL:P3D
REFRESH-INTERVAL:P3D
CALSCALE:GREGORIAN
BEGIN:VEVENT
DTSTART:20171202T233000Z
DTEND:20171203T040000Z
X-MICROSOFT-CDO-ALLDAYEVENT:FALSE
SUMMARY:Christmas Parade & Christmas in the Park
DESCRIPTION:
X-ALT-DESC;FMTTYPE=text/html:
LOCATION:
UID:e.451.6149
SEQUENCE:3
DTSTAMP:20260424T012556Z
URL:https://www.santafetxchamber.com/events/details/christmas-parade-christmas-in-the-park-6149
END:VEVENT

END:VCALENDAR
