BEGIN:VCALENDAR
VERSION:2.0
PRODID:-//ChamberMaster//Event Calendar 2.0//EN
METHOD:PUBLISH
X-PUBLISHED-TTL:P3D
REFRESH-INTERVAL:P3D
CALSCALE:GREGORIAN
BEGIN:VEVENT
DTSTART;VALUE=DATE:20201205
DTEND;VALUE=DATE:20201206
TRANSP:TRANSPARENT
X-MICROSOFT-CDO-ALLDAYEVENT:TRUE
SUMMARY:Christmas Parade & Christmas in the Park ~ 2020
DESCRIPTION:The Parks Board will NOT be hosting Christmas in the Park this Year.\n\n\n\nThis event is a combined effort between the City of Santa Fe\, the Santa Fe Chamber of Commerce\, Inc. and the City of Santa Fe Parks Board.\n\n\n\nThe Christmas Parade will start promptly at 5:30p and run from R.J. Wollam Elementary School along FM 1764 to Highway 6 to Warpath Drive.\n\nSanta Claus is ALWAYS our Grand Marshall and will be available after the parade in Mae S. Bruce Library for the Little's to sit with and share their Christmas wishes.\n\n\n\nParade Float Entry Form
X-ALT-DESC;FMTTYPE=text/html:The Parks Board will NOT be hosting Christmas in the Park this Year.<br />\n<br />\nThis event is a combined effort between the City of Santa Fe\, the Santa Fe Chamber of Commerce\, Inc. and the City of Santa Fe Parks Board.<br />\n<br />\nThe Christmas Parade will start promptly at 5:30p and run from R.J. Wollam Elementary School along FM 1764 to Highway 6 to Warpath Drive.<br />\nSanta Claus is ALWAYS our Grand Marshall and will be available after the parade in Mae S. Bruce Library for the Little&#39\;s to sit with and share their Christmas wishes.<br />\n<br />\n<a href="https://chambermaster.blob.core.windows.net/userfiles/UserFiles/chambers/451/File/Christmas_Parade_20/2020ChristmasParadeEntryFormandRules.pdf" target="_blank"><span style="color:#FF0000\;">Parade Float Entry Form</span></a>
LOCATION:
UID:e.451.7807
SEQUENCE:3
DTSTAMP:20260421T195723Z
URL:https://www.santafetxchamber.com/events/details/christmas-parade-christmas-in-the-park-2020-7807
END:VEVENT

END:VCALENDAR
