BEGIN:VCALENDAR
VERSION:2.0
PRODID:-//ChamberMaster//Event Calendar 2.0//EN
METHOD:PUBLISH
X-PUBLISHED-TTL:P3D
REFRESH-INTERVAL:P3D
CALSCALE:GREGORIAN
BEGIN:VEVENT
DTSTART;VALUE=DATE:20191207
DTEND;VALUE=DATE:20191208
TRANSP:TRANSPARENT
X-MICROSOFT-CDO-ALLDAYEVENT:TRUE
SUMMARY:Christmas Parade & Christmas in the Park ~ 2019
DESCRIPTION:This event is a combined effort between the City of Santa Fe\, the Santa Fe Chamber of Commerce\, Inc. and the City of Santa Fe Parks Board.\n\n\n\nThe Christmas Parade will start promptly at 5:30p and run from R.J. Wollam Elementary School along FM 1764 to Highway 6 to Warpath Drive.\n\nSanta Claus is ALWAYS our Grand Marshall and will be available after the parade in Mae S. Bruce Library for the Little's to sit with and share their Christmas wishes.\n\n\n\nCommunity Potluck\, Craft & Vendor Booths and Kids Activities - 1:00p to 4:00p in the Park\n\nParade Start - 5:30p\n\nChristmas Tree Lighting and Choir Singing - 7:00p\n\nSanta in the Library\n\nLive Nativity\n\nActivities and Crafts for Kids\n\n\n\nChristmas Parade Entry Flyer\n\nChristmas in the Park Vendor Packet
X-ALT-DESC;FMTTYPE=text/html:This event is a combined effort between the City of Santa Fe\, the Santa Fe Chamber of Commerce\, Inc. and the City of Santa Fe Parks Board.<br />\n<br />\nThe Christmas Parade will start promptly at 5:30p and run from R.J. Wollam Elementary School along FM 1764 to Highway 6 to Warpath Drive.<br />\nSanta Claus is ALWAYS our Grand Marshall and will be available after the parade in Mae S. Bruce Library for the Little&#39\;s to sit with and share their Christmas wishes.<br />\n<br />\nCommunity Potluck\, Craft &amp\; Vendor Booths and Kids Activities - 1:00p to 4:00p in the Park<br />\nParade Start - 5:30p<br />\nChristmas Tree Lighting and Choir Singing - 7:00p<br />\nSanta in the Library<br />\nLive Nativity<br />\nActivities and Crafts for Kids<br />\n<br />\n<a href="https://chambermaster.blob.core.windows.net/userfiles/UserFiles/chambers/451/File/Christmas_Parade_19/2019ChristmasParadeEntryFormandRules.pdf"><span style="color:#B22222\;">Christmas Parade Entry Flyer</span></a><br />\n<a href="https://chambermaster.blob.core.windows.net/userfiles/UserFiles/chambers/451/File/Christmas_Parade_19/Form_VendorForm_CIP2019.pdf"><span style="color:#B22222\;">Christmas in the Park Vendor Packet</span></a><span style="color:#B22222\;"> </span>
LOCATION:
UID:e.451.6673
SEQUENCE:3
DTSTAMP:20260422T142323Z
URL:https://www.santafetxchamber.com/events/details/christmas-parade-christmas-in-the-park-2019-6673
END:VEVENT

END:VCALENDAR
