BEGIN:VCALENDAR
VERSION:2.0
PRODID:-//ChamberMaster//Event Calendar 2.0//EN
METHOD:PUBLISH
X-PUBLISHED-TTL:P3D
REFRESH-INTERVAL:P3D
CALSCALE:GREGORIAN
BEGIN:VEVENT
DTSTART;VALUE=DATE:20181201
DTEND;VALUE=DATE:20181202
TRANSP:TRANSPARENT
X-MICROSOFT-CDO-ALLDAYEVENT:TRUE
SUMMARY:Christmas Parade & Christmas in the Park ~ 2018
DESCRIPTION:This event is a combined effort between the City of Santa Fe\, the Santa Fe Chamber of Commerce\, Inc. and the City of Santa Fe Parks Board.\n\nThe Christmas Parade will start promptly at 5:30p and run from R.J. Wollom Elementary School along FM 1764 to Highway 6 to Warpath Drive.\n\nSanta Claus is ALWAYS our Grand Marshall and will be available after the parade in Mae S. Bruce Library for the Little's to sit with and share their Christmas wishes.\n\n\n\nChristmas Tree Lighting and Choir Singing\n\nSanta in the Library\n\nSnow in the Park\n\nStudent Performance on the Basketball Court\n\nCrafts for Kids\n\n\n\nChristmas Parade Entry Flyer
X-ALT-DESC;FMTTYPE=text/html:This event is a combined effort between the City of Santa Fe\, the Santa Fe Chamber of Commerce\, Inc. and the City of Santa Fe Parks Board.<br />\nThe Christmas Parade will start promptly at 5:30p and run from R.J. Wollom Elementary School along FM 1764 to Highway 6 to Warpath Drive.<br />\nSanta Claus is ALWAYS our Grand Marshall and will be available after the parade in Mae S. Bruce Library for the Little&#39\;s to sit with and share their Christmas wishes.<br />\n<br />\nChristmas Tree Lighting and Choir Singing<br />\nSanta in the Library<br />\nSnow in the Park<br />\nStudent Performance on the Basketball Court<br />\nCrafts for Kids<br />\n<br />\n<a href="https://chambermaster.blob.core.windows.net/userfiles/UserFiles/chambers/451/File/Christmas_Parade_2018/2018ChristmasParadeEntryFormandRules.pdf"><span style="color:#B22222\;">Christmas Parade Entry Flyer</span></a>
LOCATION:
UID:e.451.6577
SEQUENCE:3
DTSTAMP:20260423T101923Z
URL:https://www.santafetxchamber.com/events/details/christmas-parade-christmas-in-the-park-2018-6577
END:VEVENT

END:VCALENDAR
