BEGIN:VCALENDAR
VERSION:2.0
PRODID:-//ChamberMaster//Event Calendar 2.0//EN
METHOD:PUBLISH
X-PUBLISHED-TTL:P3D
REFRESH-INTERVAL:P3D
CALSCALE:GREGORIAN
BEGIN:VEVENT
DTSTART:20190309T160000Z
DTEND:20190309T170000Z
X-MICROSOFT-CDO-ALLDAYEVENT:FALSE
SUMMARY:Children's Workshop - Showing the Bird's Love
DESCRIPTION:Saturday\, March 9th\n\nChildren's Workshop - Showing the Bird's Love\n\n\n\nLet's show the birds some love this Spring and create a beautiful birdhouse for them.\n\n\n\n10 a.m. - 11 a.m. ~ $10/child\n\n\n\nE-mail Joanne at jimbosnursery75@gmail.com or call us at (409) 925-6933 to reserve your child's spot.
X-ALT-DESC;FMTTYPE=text/html:<span style="background-image:initial\;background-position:initial\;background-size:initial\;background-repeat:initial\;background-attachment:initial\;background-origin:initial\;background-clip:initial\;"><span style="color:#d95000\;"><span style="font-family:helvetica\,sans-serif\;"><span style="font-size:10.5pt\;">Saturday\, March 9th<br />\nChildren&rsquo\;s Workshop - Showing the Bird&rsquo\;s Love</span></span></span></span><br />\n<br />\n<span style="background-image:initial\;background-position:initial\;background-size:initial\;background-repeat:initial\;background-attachment:initial\;background-origin:initial\;background-clip:initial\;"><span style="color:#d95000\;"><span style="font-family:helvetica\,sans-serif\;"><span style="font-size:10.5pt\;"><span style="white-space:pre-wrap\;">Let&#39\;s show the birds some love this Spring and create a beautiful birdhouse for them.<br />\n<br />\n10 a.m. - 11 a.m. ~ </span></span></span></span></span><span style="background-image:initial\;background-position:initial\;background-size:initial\;background-repeat:initial\;background-attachment:initial\;background-origin:initial\;background-clip:initial\;"><span style="color:#d95000\;"><span style="font-family:helvetica\,sans-serif\;"><span style="font-size:10.5pt\;"><span style="white-space:pre-wrap\;">$10/child</span></span></span></span></span><br />\n<br style="white-space:pre-wrap\;" />\n<span style="color:#D95000\;"><span style="font-family:helvetica\,sans-serif\;"><span style="font-size:10.5pt\;"><span style="background-image:initial\;background-position:initial\;background-size:initial\;background-repeat:initial\;background-attachment:initial\;background-origin:initial\;background-clip:initial\;"><span style="white-space:pre-wrap\;">E-mail Joanne at <a href="mailto:jimbosnursery75@gmail.com">jimbosnursery75@gmail.com</a> or call us at (409) 925-6933 to reserve your child&#39\;s spot.</span></span></span></span></span>
LOCATION:
UID:e.451.6692
SEQUENCE:3
DTSTAMP:20260423T033457Z
URL:https://www.santafetxchamber.com/events/details/children-s-workshop-showing-the-bird-s-love-6692
END:VEVENT

END:VCALENDAR
