BEGIN:VCALENDAR
VERSION:2.0
PRODID:-//ChamberMaster//Event Calendar 2.0//EN
METHOD:PUBLISH
X-PUBLISHED-TTL:P3D
REFRESH-INTERVAL:P3D
CALSCALE:GREGORIAN
BEGIN:VEVENT
DTSTART:20190706T150000Z
DTEND:20190706T160000Z
X-MICROSOFT-CDO-ALLDAYEVENT:FALSE
SUMMARY:Children's Workshop - Red\, White & Blue Garden
DESCRIPTION:Saturday\, July 6th\n\nChildren's Workshop - Red\, White and Blue Garden\n\n\n\nHappy Independence Day! Bring the kids out to celebrate our great nation and let them create a Independence Day Garden.\n\n\n\n10 a.m. - 11 a.m. ~ $10/child\n\n\n\nE-mail Joanne at jimbosnursery75@gmail.com or call us at (409) 925-6933.
X-ALT-DESC;FMTTYPE=text/html:<span style="background-image:initial\;background-position:initial\;background-size:initial\;background-repeat:initial\;background-attachment:initial\;background-origin:initial\;background-clip:initial\;"><span style="color:#77bb41\;"><span style="font-family:helvetica\,sans-serif\;"><span style="font-size:10.5pt\;">Saturday\, July 6th<br />\nChildren&rsquo\;s Workshop - Red\, White and Blue Garden</span></span></span></span><br />\n<br />\n<span style="background-image:initial\;background-position:initial\;background-size:initial\;background-repeat:initial\;background-attachment:initial\;background-origin:initial\;background-clip:initial\;"><span style="color:#77bb41\;"><span style="font-family:helvetica\,sans-serif\;"><span style="font-size:10.5pt\;"><span style="white-space:pre-wrap\;">Happy Independence Day! Bring the kids out to celebrate our great nation and let them create a Independence Day Garden.<br />\n<br />\n10 a.m. - 11 a.m. ~ </span></span></span></span></span><span style="color:#77BB41\;"><span style="font-family:helvetica\,sans-serif\;"><span style="font-size:10.5pt\;"><span style="background-image:initial\;background-position:initial\;background-size:initial\;background-repeat:initial\;background-attachment:initial\;background-origin:initial\;background-clip:initial\;"><span style="white-space:pre-wrap\;">$10/child</span></span><br style="white-space:pre-wrap\;" />\n<br />\n<span style="background-image:initial\;background-position:initial\;background-size:initial\;background-repeat:initial\;background-attachment:initial\;background-origin:initial\;background-clip:initial\;"><span style="white-space:pre-wrap\;">E-mail Joanne at <a href="mailto:jimbosnursery75@gmail.com">jimbosnursery75@gmail.com</a> or call us at (409) 925-6933.</span></span></span></span></span>
LOCATION:
UID:e.451.6705
SEQUENCE:3
DTSTAMP:20260422T214848Z
URL:https://www.santafetxchamber.com/events/details/children-s-workshop-red-white-blue-garden-6705
END:VEVENT

END:VCALENDAR
