BEGIN:VCALENDAR
VERSION:2.0
PRODID:-//ChamberMaster//Event Calendar 2.0//EN
METHOD:PUBLISH
X-PUBLISHED-TTL:P3D
REFRESH-INTERVAL:P3D
CALSCALE:GREGORIAN
BEGIN:VEVENT
DTSTART:20190504T150000Z
DTEND:20190504T160000Z
X-MICROSOFT-CDO-ALLDAYEVENT:FALSE
SUMMARY:Children's Workshop - Mother's Day Planter
DESCRIPTION:Saturday\, May 4th\n\nChildren's Workshop - Mother's Day Planter\n\n\n\nIt's time to celebrate everything mother's do! Come create a special planter to give to Mom and show just how special she is to you.\n\n\n\n10 a.m. - 11 a.m. ~ $10/child\n\n\n\nE-mail Joanne at jimbosnursery75@gmail.com or call us at (409) 925-6933 to reserve your child's spot.
X-ALT-DESC;FMTTYPE=text/html:<span style="background-image:initial\;background-position:initial\;background-size:initial\;background-repeat:initial\;background-attachment:initial\;background-origin:initial\;background-clip:initial\;"><span style="color:#ffaa00\;"><span style="font-family:helvetica\,sans-serif\;"><span style="font-size:10.5pt\;">Saturday\, May 4th<br />\nChildren&rsquo\;s Workshop - Mother&rsquo\;s Day Planter</span></span></span></span><br />\n<br />\n<span style="background-image:initial\;background-position:initial\;background-size:initial\;background-repeat:initial\;background-attachment:initial\;background-origin:initial\;background-clip:initial\;"><span style="color:#ffaa00\;"><span style="font-family:helvetica\,sans-serif\;"><span style="font-size:10.5pt\;"><span style="white-space:pre-wrap\;">It&#39\;s time to celebrate everything mother&#39\;s do! Come create a special planter to give to Mom and show just how special she is to you.<br />\n<br />\n10 a.m. - 11 a.m. ~ </span></span></span></span></span><span style="color:#FFAA00\;"><span style="font-family:helvetica\,sans-serif\;"><span style="font-size:10.5pt\;"><span style="background-image:initial\;background-position:initial\;background-size:initial\;background-repeat:initial\;background-attachment:initial\;background-origin:initial\;background-clip:initial\;"><span style="white-space:pre-wrap\;">$10/child</span></span><br style="white-space:pre-wrap\;" />\n<br />\n<span style="background-image:initial\;background-position:initial\;background-size:initial\;background-repeat:initial\;background-attachment:initial\;background-origin:initial\;background-clip:initial\;"><span style="white-space:pre-wrap\;">E-mail Joanne at <a href="mailto:jimbosnursery75@gmail.com">jimbosnursery75@gmail.com</a> or call us at (409) 925-6933 to reserve your child&#39\;s spot.</span></span></span></span></span>
LOCATION:
UID:e.451.6697
SEQUENCE:3
DTSTAMP:20260423T021026Z
URL:https://www.santafetxchamber.com/events/details/children-s-workshop-mother-s-day-planter-6697
END:VEVENT

END:VCALENDAR
