BEGIN:VCALENDAR
VERSION:2.0
PRODID:-//ChamberMaster//Event Calendar 2.0//EN
METHOD:PUBLISH
X-PUBLISHED-TTL:P3D
REFRESH-INTERVAL:P3D
CALSCALE:GREGORIAN
BEGIN:VEVENT
DTSTART:20190223T160000Z
DTEND:20190223T170000Z
X-MICROSOFT-CDO-ALLDAYEVENT:FALSE
SUMMARY:Children's Workshop - Mardi Gras Herb Garden
DESCRIPTION:Saturday\, February 23rd\n\nChildren's Workshop - Mardi Gras Herb Garden \n\n\n\nCome create a colorful herb garden to celebrate the season of Mardi Gras\, then have herbs to cook with all year long.\n\n\n\n10 a.m. - 11 a.m. ~ $10/child.\n\n\n\nE-mail Joanne at jimbosnursery75@gmail.com to reserve your spot or give us a call at (409) 925-6933.
X-ALT-DESC;FMTTYPE=text/html:<span style="color:#371A94\;"><span style="font-size:10.5pt\;">Saturday\, February 23rd<br />\nChildren&rsquo\;s Workshop - Mardi Gras Herb Garden&nbsp\;</span></span><br />\n<br />\n<span style="background-image:initial\;background-position:initial\;background-size:initial\;background-repeat:initial\;background-attachment:initial\;background-origin:initial\;background-clip:initial\;"><span style="color:#371a94\;"><span style="font-family:helvetica\,sans-serif\;"><span style="font-size:10.5pt\;"><span style="white-space:pre-wrap\;">Come create a colorful herb garden to celebrate the season of Mardi Gras\, then have herbs to cook with all year long.<br />\n<br />\n10 a.m. - 11 a.m. ~ </span></span></span></span></span><span style="color:#371A94\;"><span style="font-family:helvetica\,sans-serif\;"><span style="font-size:10.5pt\;"><span style="background-image:initial\;background-position:initial\;background-size:initial\;background-repeat:initial\;background-attachment:initial\;background-origin:initial\;background-clip:initial\;"><span style="white-space:pre-wrap\;">$10/child.</span></span><br />\n<br style="white-space:pre-wrap\;" />\n<span style="background-image:initial\;background-position:initial\;background-size:initial\;background-repeat:initial\;background-attachment:initial\;background-origin:initial\;background-clip:initial\;"><span style="white-space:pre-wrap\;">E-mail Joanne at <a href="mailto:jimbosnursery75@gmail.com">jimbosnursery75@gmail.com</a> to reserve your spot or give us a call at (409) 925-6933.</span></span></span></span></span>
LOCATION:
UID:e.451.6688
SEQUENCE:3
DTSTAMP:20260423T051833Z
URL:https://www.santafetxchamber.com/events/details/children-s-workshop-mardi-gras-herb-garden-6688
END:VEVENT

END:VCALENDAR
