BEGIN:VCALENDAR
VERSION:2.0
PRODID:-//ChamberMaster//Event Calendar 2.0//EN
METHOD:PUBLISH
X-PUBLISHED-TTL:P3D
REFRESH-INTERVAL:P3D
CALSCALE:GREGORIAN
BEGIN:VEVENT
DTSTART:20190608T150000Z
DTEND:20190608T160000Z
X-MICROSOFT-CDO-ALLDAYEVENT:FALSE
SUMMARY:Children's Workshop - Elf / Fairy Garden
DESCRIPTION:Saturday\, June 8th\n\nChildren's Workshop - Elf/Fairy Garden\n\n\n\nDo you hear the magical creatures flying in the garden? Let's create a home for them. Join us to make a magical place for elves and fairies alike.\n\n\n\n10 a.m. - 11 a.m. ~ $10/child\n\n\n\nE-mail Joanne at jimbosnursery75@gmail.com or call us at (409) 925-6933 to reserve your child's spot.
X-ALT-DESC;FMTTYPE=text/html:<span style="background-image:initial\;background-position:initial\;background-size:initial\;background-repeat:initial\;background-attachment:initial\;background-origin:initial\;background-clip:initial\;"><span style="color:#004d65\;"><span style="font-family:helvetica\,sans-serif\;"><span style="font-size:10.5pt\;">Saturday\, June 8th<br />\nChildren&rsquo\;s Workshop - Elf/Fairy Garden</span></span></span></span><br />\n<br />\n<span style="background-image:initial\;background-position:initial\;background-size:initial\;background-repeat:initial\;background-attachment:initial\;background-origin:initial\;background-clip:initial\;"><span style="color:#004d65\;"><span style="font-family:helvetica\,sans-serif\;"><span style="font-size:10.5pt\;"><span style="white-space:pre-wrap\;">Do you hear the magical creatures flying in the garden? Let&#39\;s create a home for them. Join us to make a magical place for elves and fairies alike.<br />\n<br />\n10 a.m. - 11 a.m. ~ </span></span></span></span></span><span style="color:#004D65\;"><span style="font-family:helvetica\,sans-serif\;"><span style="font-size:10.5pt\;"><span style="background-image:initial\;background-position:initial\;background-size:initial\;background-repeat:initial\;background-attachment:initial\;background-origin:initial\;background-clip:initial\;"><span style="white-space:pre-wrap\;">$10/child</span></span><br />\n<br style="white-space:pre-wrap\;" />\n<span style="background-image:initial\;background-position:initial\;background-size:initial\;background-repeat:initial\;background-attachment:initial\;background-origin:initial\;background-clip:initial\;"><span style="white-space:pre-wrap\;">E-mail Joanne at <a href="mailto:jimbosnursery75@gmail.com">jimbosnursery75@gmail.com</a> or call us at (409) 925-6933 to reserve your child&#39\;s spot.</span></span></span></span></span>
LOCATION:
UID:e.451.6701
SEQUENCE:3
DTSTAMP:20260423T003738Z
URL:https://www.santafetxchamber.com/events/details/children-s-workshop-elf-fairy-garden-6701
END:VEVENT

END:VCALENDAR
