BEGIN:VCALENDAR
VERSION:2.0
PRODID:-//ChamberMaster//Event Calendar 2.0//EN
METHOD:PUBLISH
X-PUBLISHED-TTL:P3D
REFRESH-INTERVAL:P3D
CALSCALE:GREGORIAN
BEGIN:VEVENT
DTSTART;VALUE=DATE:20161015
DTEND;VALUE=DATE:20161016
TRANSP:TRANSPARENT
X-MICROSOFT-CDO-ALLDAYEVENT:TRUE
SUMMARY:Childhood Cancer Connection 4th Annual Golf Tournament
DESCRIPTION:Childhood Cancer Connection is a non-profit 501 (c)(3) organization supporting children and their families diagnosed with cancer and blood disorders. Activities include: The Rainbow Connection Camp\, community education\, holiday parties\, parent support activities\, and outings.
X-ALT-DESC;FMTTYPE=text/html:<span style="language:en-US\;"><span style="font-family:book antiqua\;"><span style="font-size:10.5pt\;">Childhood Cancer Connection is a non-profit 501 (c)(3) organization supporting children and their families diagnosed with cancer and blood disorders. Activities include: The Rainbow Connection Camp\, community education\, holiday parties\, parent support activities\, and outings.&nbsp\;</span></span></span>
LOCATION:Moody Gardens Golf Course Galveston\, Texas
UID:e.451.5841
SEQUENCE:3
DTSTAMP:20260424T233613Z
URL:https://www.santafetxchamber.com/events/details/childhood-cancer-connection-4th-annual-golf-tournament-5841
END:VEVENT

END:VCALENDAR
