BEGIN:VCALENDAR
VERSION:2.0
PRODID:-//ChamberMaster//Event Calendar 2.0//EN
METHOD:PUBLISH
X-PUBLISHED-TTL:P3D
REFRESH-INTERVAL:P3D
CALSCALE:GREGORIAN
BEGIN:VEVENT
DTSTART:20151001T163000Z
DTEND:20151001T173000Z
X-MICROSOFT-CDO-ALLDAYEVENT:FALSE
SUMMARY:Cancelled - Women in Business Luncheon
DESCRIPTION:Join us for our WIB Luncheon \n\n\n\nSanta Fe Chamber of Commerce Women in Business \n\n \n\nWHEN:  Thursday \, 11:30 \n\n\n\n\nWHERE:  Lunch is $15.00\, cash or check only made payable to Santa Fe Chamber of Commerce. \n\n\n\nPlease send in your RSVP no later than noon on Monday to The Santa Fe Chamber of Commerce\, Inc. at (409) 925-8558 or sfchamber@comcast.net
X-ALT-DESC;FMTTYPE=text/html:<div>\n<div style="margin-bottom: 10pt\;">\n<div align="center"><em>&nbsp\;</em></div>\n</div>\n\n<div style="margin-bottom: 10pt\;">\n<div align="center">\n<div><em><span style="font-size: small\;"><span style="font-family: arial\;"><span style="background: white\;"><span style="font-size: 13.5pt\;"><span style="color: rgb(255\, 0\, 0)\;"><strong>Join us for our WIB Luncheon </strong></span></span></span></span></span></em>\n\n<div>\n<div>\n<div link="blue" vlink="purple"><em><strong><span style="font-size: 13.5pt\;">Santa Fe Chamber of Commerce Women in Business </span></strong><br />\n&nbsp\;<br />\n<strong><span style="font-size: 13.5pt\;">WHEN:&nbsp\; Thursday \, 11:30</span></strong>&nbsp\;</em>\n\n<div>\n<blockquote style="border-width: medium medium medium 1pt\; border-style: none none none solid\; border-color: currentColor\; padding: 0in 0in 0in 6pt\; margin-right: 0in\; margin-left: 4.8pt\;">\n<div>\n<div><em><strong>WHERE:&nbsp\; </strong><strong>Lunch is $15.00\, cash or check only made payable to Santa Fe Chamber of Commerce.&nbsp\;</strong><br />\n<br />\n<span style="color: red\;"><span style="font-size: 24pt\;"><span style="font-size: large\;">Please send&nbsp\;in your RSVP no later than noon on&nbsp\;Monday&nbsp\;</span></span></span><span style="color: red\;"><span style="font-size: 24pt\;"><span style="color: red\;"><span style="font-size: large\;">to&nbsp\;The Santa Fe Chamber of Commerce\, Inc.&nbsp\;at (409) 925-8558 or</span></span></span></span><span style="color: red\;"><span style="font-size: 24pt\;"><span style="color: red\;"><span style="font-size: large\;">&nbsp\;</span></span></span></span><a href="https://www.google.com/contacts/c/ui/ContactManager?titleBar=true&amp\;hl=en&amp\;dc=true" target="_blank" title="https://www.google.com/contacts/c/ui/ContactManager?titleBar=true&amp\;hl=en&amp\;dc=true"><span title="https://www.google.com/contacts/c/ui/ContactManager?titleBar=true&amp\;hl=en&amp\;dc=true"><span style="font-size: large\;"><span style="color: rgb(0\, 0\, 255)\;"><span title="https://www.google.com/contacts/c/ui/ContactManager?titleBar=true&amp\;hl=en&amp\;dc=true"><span title="https://www.google.com/contacts/c/ui/ContactManager?titleBar=true&amp\;hl=en&amp\;dc=true">sfchamber@comcast.net</span></span></span></span></span></a><br />\n&nbsp\;</em></div>\n</div>\n</blockquote>\n</div>\n</div>\n</div>\n</div>\n</div>\n\n<div><em>&nbsp\;</em></div>\n<em>&nbsp\;</em></div>\n</div>\n</div>\n
LOCATION:WHERE:
UID:e.451.1452
SEQUENCE:3
DTSTAMP:20260425T171910Z
URL:https://www.santafetxchamber.com/events/details/cancelled-women-in-business-luncheon-10-01-2015-1452
END:VEVENT

END:VCALENDAR
