BEGIN:VCALENDAR
VERSION:2.0
PRODID:-//ChamberMaster//Event Calendar 2.0//EN
METHOD:PUBLISH
X-PUBLISHED-TTL:P3D
REFRESH-INTERVAL:P3D
CALSCALE:GREGORIAN
BEGIN:VEVENT
DTSTART:20200507T223000Z
DTEND:20200508T010000Z
X-MICROSOFT-CDO-ALLDAYEVENT:FALSE
SUMMARY:CANCELLED: Taste of Santa Fe & Business Expo ~ 2020
DESCRIPTION:Taste of Santa Fe & Business Expo is an opportunity for businesses and organizations that serve Santa Fe to interact with each other and with members of the community.  It's a great event to find local businesses where you can eat\, shop and play.\n\n\n\nAdmission is $5 for Adults and kids over 12\n\n\n\n\n\nPDF Forms:\n\nSponsorship Form\n\nVendor Form\n\nFood Exhibitor Form\n\n\n\nRegistered Vendors:\n\nAMOCO Federal Credit Union\n\nColor Street - Jody Winningham\n\nLittle Bit of This... Little Bit of That\n\nMary Kay - Annette Kinslow\n\nState Farm Insurance~Agent Greg Gardner
X-ALT-DESC;FMTTYPE=text/html:<p><span style="font-size:14px\;"><span style="font-family:times new roman\;">Taste of Santa Fe &amp\; Business Expo is an opportunity for businesses and organizations that serve Santa Fe to interact with each other and with members of the community. &nbsp\;It&#39\;s a great event to find local businesses where you can eat\, shop and play.<br />\n<br />\nAdmission is $5 for Adults and kids over 12<br />\n<br />\n<br />\nPDF Forms:<br />\n<a href="https://chambermaster.blob.core.windows.net/userfiles/UserFiles/chambers/451/File/Taste_of_SF_2020/Invitation_BusinessandSponsors.pdf"><span style="color:#0000FF\;">Sponsorship Form</span></a><br />\n<a href="https://chambermaster.blob.core.windows.net/userfiles/UserFiles/chambers/451/File/Taste_of_SF_2020/Invitation_BusinessandSponsors.pdf"><span style="color:#0000FF\;">Vendor Form</span></a><br />\n<a href="https://chambermaster.blob.core.windows.net/userfiles/UserFiles/chambers/451/File/Taste_of_SF_2020/Invitation_FoodExhibitor.pdf"><span style="color:#0000FF\;">Food Exhibitor Form</span></a></span></span><br />\n<br />\n<span style="font-size:14px\;"><span style="font-family:times new roman\;">Registered Vendors:<br />\nAMOCO Federal Credit Union<br />\nColor Street - Jody Winningham<br />\nLittle Bit of This... Little Bit of That<br />\nMary Kay - Annette Kinslow<br />\nState Farm Insurance~Agent Greg Gardner</span></span><br />\n<br />\n&nbsp\;</p>\n
LOCATION:Ed Pickett Hall at the Galveston County Fairgrounds 10 Jack Brooks Rd. Hitchcock\, TX 77563
UID:e.451.7804
SEQUENCE:3
DTSTAMP:20260422T085044Z
URL:https://www.santafetxchamber.com/events/details/cancelled-taste-of-santa-fe-business-expo-2020-7804
END:VEVENT

END:VCALENDAR
