BEGIN:VCALENDAR
VERSION:2.0
PRODID:-//ChamberMaster//Event Calendar 2.0//EN
METHOD:PUBLISH
X-PUBLISHED-TTL:P3D
REFRESH-INTERVAL:P3D
CALSCALE:GREGORIAN
BEGIN:VEVENT
DTSTART:20150702T163000Z
DTEND:20150702T173000Z
X-MICROSOFT-CDO-ALLDAYEVENT:FALSE
SUMMARY:Cancelled for July Women in Business Luncheon
DESCRIPTION:The Santa Fe Chamber of Commerce\, Inc. will not be hosting a Women In Business Luncheon for the month of July.
X-ALT-DESC;FMTTYPE=text/html:<div>\n<div style="margin-bottom: 10pt\;">\n<div align="center"><em>&nbsp\;</em></div>\n</div>\n\n<div style="margin-bottom: 10pt\;">\n<div align="center">\n<div><em><span style="font-size: small\;"><span style="font-family: arial\;"><span style="background: white\;"><span style="font-size: 13.5pt\;"><span style="color: rgb(255\, 0\, 0)\;"><strong>The Santa Fe Chamber of Commerce\, Inc. will not be hosting a Women In Business Luncheon for the month of July.</strong></span></span></span></span></span></em></div>\n</div>\n</div>\n</div>\n
LOCATION:WHERE:
UID:e.451.1449
SEQUENCE:3
DTSTAMP:20260425T215607Z
URL:https://www.santafetxchamber.com/events/details/cancelled-for-july-women-in-business-luncheon-07-02-2015-1449
END:VEVENT

END:VCALENDAR
