BEGIN:VCALENDAR
VERSION:2.0
PRODID:-//ChamberMaster//Event Calendar 2.0//EN
METHOD:PUBLISH
X-PUBLISHED-TTL:P3D
REFRESH-INTERVAL:P3D
CALSCALE:GREGORIAN
BEGIN:VEVENT
DTSTART:20150708T163000Z
DTEND:20150708T180000Z
X-MICROSOFT-CDO-ALLDAYEVENT:FALSE
SUMMARY:Cancelled for July General Membership Meeting/Luncheon
DESCRIPTION:The Santa Fe Chamber of Commerce\, Inc. will not be hosting a General Membership Meeting/Luncheon for the month of July.
X-ALT-DESC;FMTTYPE=text/html:The Santa Fe Chamber of Commerce\, Inc. will not be hosting a General Membership Meeting/Luncheon for the month of July.
LOCATION:
UID:e.451.3533
SEQUENCE:3
DTSTAMP:20260426T022438Z
URL:https://www.santafetxchamber.com/events/details/cancelled-for-july-general-membership-meeting-luncheon-07-08-2015-3533
END:VEVENT

END:VCALENDAR
