BEGIN:VCALENDAR
VERSION:2.0
PRODID:-//ChamberMaster//Event Calendar 2.0//EN
METHOD:PUBLISH
X-PUBLISHED-TTL:P3D
REFRESH-INTERVAL:P3D
CALSCALE:GREGORIAN
BEGIN:VEVENT
DTSTART:20200416T223000Z
DTEND:20200417T000000Z
X-MICROSOFT-CDO-ALLDAYEVENT:FALSE
SUMMARY:CANCELLED: Business & Brews
DESCRIPTION:This is a come and go event geared toward networking and getting to know your fellow business members.  This event can be hosted as a breakfast or an after hours.
X-ALT-DESC;FMTTYPE=text/html:This is a come and go event geared toward networking and getting to know your fellow business members.&nbsp\; This event can be hosted as a breakfast or an after hours.
LOCATION:April Business & Brews will be hosted by: Texas First Bank-Santa Fe 12402 Highway 6
UID:e.451.7681
SEQUENCE:3
DTSTAMP:20260422T095306Z
URL:https://www.santafetxchamber.com/events/details/cancelled-business-brews-7681
END:VEVENT

END:VCALENDAR
