BEGIN:VCALENDAR
VERSION:2.0
PRODID:-//ChamberMaster//Event Calendar 2.0//EN
METHOD:PUBLISH
X-PUBLISHED-TTL:P3D
REFRESH-INTERVAL:P3D
CALSCALE:GREGORIAN
BEGIN:VEVENT
DTSTART:20160123T160000Z
DTEND:20160123T200000Z
X-MICROSOFT-CDO-ALLDAYEVENT:FALSE
SUMMARY:Buyer 101 Class_2016
DESCRIPTION:Not sure where to begin in the home buying process? Crossroads Realty will host a Buyer 101 Class. Buyers will have access to a lender\, title company and an inspector to ask questions.
X-ALT-DESC;FMTTYPE=text/html:Not sure where to begin in the home buying process? Crossroads Realty will host a Buyer 101 Class. Buyers will have access to a lender\, title company and an inspector to ask questions.
LOCATION:Crossroads Realty 4111 FM 1764\, Ste. C
UID:e.451.5153
SEQUENCE:3
DTSTAMP:20260425T152813Z
URL:https://www.santafetxchamber.com/events/details/buyer-101-class_2016-01-23-2016-5153
END:VEVENT

END:VCALENDAR
