BEGIN:VCALENDAR
VERSION:2.0
PRODID:-//ChamberMaster//Event Calendar 2.0//EN
METHOD:PUBLISH
X-PUBLISHED-TTL:P3D
REFRESH-INTERVAL:P3D
CALSCALE:GREGORIAN
BEGIN:VEVENT
DTSTART:20180312T150000Z
DTEND:20180312T160000Z
X-MICROSOFT-CDO-ALLDAYEVENT:FALSE
SUMMARY:Business of the Month Presentation - ACU of Texas
DESCRIPTION:Join us as we Award ACU of Texas with our March Business of the Month Award.  The Santa Fe Branch will host sweets and coffee beginning at 10:00a and we will conduct the Awards' presentation at 10:30a.
X-ALT-DESC;FMTTYPE=text/html:Join us as we Award ACU of Texas with our March Business of the Month Award.&nbsp\; The Santa Fe Branch will host sweets and coffee beginning at 10:00a and we will conduct the Awards&#39\; presentation at 10:30a.
LOCATION:
UID:e.451.7007
SEQUENCE:3
DTSTAMP:20260423T222116Z
URL:https://www.santafetxchamber.com/events/details/business-of-the-month-presentation-acu-of-texas-7007
END:VEVENT

END:VCALENDAR
