BEGIN:VCALENDAR
VERSION:2.0
PRODID:-//ChamberMaster//Event Calendar 2.0//EN
METHOD:PUBLISH
X-PUBLISHED-TTL:P3D
REFRESH-INTERVAL:P3D
CALSCALE:GREGORIAN
BEGIN:VEVENT
DTSTART:20231213T233000Z
DTEND:20231214T013000Z
X-MICROSOFT-CDO-ALLDAYEVENT:FALSE
SUMMARY:Business Holiday Decorating Contest Awards
DESCRIPTION:
X-ALT-DESC;FMTTYPE=text/html:
LOCATION:12121 FM 1764 Santa Fe\, TX
UID:e.451.9459
SEQUENCE:3
DTSTAMP:20260419T182042Z
URL:https://www.santafetxchamber.com/events/details/business-holiday-decorating-contest-awards-9459
END:VEVENT

END:VCALENDAR
