BEGIN:VCALENDAR
VERSION:2.0
PRODID:-//ChamberMaster//Event Calendar 2.0//EN
METHOD:PUBLISH
X-PUBLISHED-TTL:P3D
REFRESH-INTERVAL:P3D
CALSCALE:GREGORIAN
BEGIN:VEVENT
DTSTART:20210429T220000Z
DTEND:20210430T010000Z
X-MICROSOFT-CDO-ALLDAYEVENT:FALSE
SUMMARY:Business Expo\, Continuing Education & Career Fair ~ 2021
DESCRIPTION:The Business Expo\, Continuing Education & Career Fair is an opportunity for businesses and organizations that serve Santa Fe to interact with each other and with members of the community.  \n\n\n\nTo satisfy your appetite for shopping\, good food and fun\, we will have great cuisine prepared by our local food trucks and you can "shop till you drop" with our local vendors. Join us for presentations on continuing education and career opportunities\, FAFSA information and resume building and interview skills.\n\n\n\nAdmission is $5 for Adults over 18\n\n\n\n\n\nPDF Forms:\n\nSponsorship Form \n\nVendor Form \n\nFood Exhibitor Form \n\n\n\nRegistered Vendors: TBA
X-ALT-DESC;FMTTYPE=text/html:<p><span style="font-size:14px\;"><span style="font-family:times new roman\;">The Business Expo\, Continuing Education &amp\; Career Fair is an opportunity for businesses and organizations that serve Santa Fe to interact with each other and with members of the community.&nbsp\;&nbsp\;<br />\n<br />\nTo satisfy your appetite for shopping\, good food and fun\, we will have great cuisine prepared by our local food trucks and you can &quot\;shop till you drop&quot\; with our local vendors. Join us for presentations on continuing education and career opportunities\, FAFSA information and resume building and interview skills.<br />\n<br />\nAdmission is $5 for Adults over 18<br />\n<br />\n<br />\nPDF Forms:<br />\n<span style="color:#0000FF\;"><a href="https://chambermaster.blob.core.windows.net/userfiles/UserFiles/chambers/451/File/Business_Expo_2021/Invitation_BusinessandSponsors.pdf">Sponsorship Form</a> </span><br />\n<span style="color:#0000FF\;"><a href="https://chambermaster.blob.core.windows.net/userfiles/UserFiles/chambers/451/File/Business_Expo_2021/Invitation_BusinessandSponsors.pdf">Vendor Form</a> </span><br />\n<span style="color:#0000FF\;"><a href="https://chambermaster.blob.core.windows.net/userfiles/UserFiles/chambers/451/File/Business_Expo_2021/Invitation_FoodExhibitor.pdf">Food Exhibitor Form</a> </span></span></span><br />\n<br />\n<span style="font-size:14px\;"><span style="font-family:times new roman\;">Registered Vendors: TBA</span></span><br />\n&nbsp\;</p>\n
LOCATION:Galveston County Fairgrounds 10 Jack Brooks Rd. Hitchcock\, TX 77563
UID:e.451.7821
SEQUENCE:3
DTSTAMP:20260421T164802Z
URL:https://www.santafetxchamber.com/events/details/business-expo-continuing-education-career-fair-2021-7821
END:VEVENT

END:VCALENDAR
