BEGIN:VCALENDAR
VERSION:2.0
PRODID:-//ChamberMaster//Event Calendar 2.0//EN
METHOD:PUBLISH
X-PUBLISHED-TTL:P3D
REFRESH-INTERVAL:P3D
CALSCALE:GREGORIAN
BEGIN:VEVENT
DTSTART:20160421T233000Z
DTEND:20160422T010000Z
X-MICROSOFT-CDO-ALLDAYEVENT:FALSE
SUMMARY:Business Development Workshop Series 2 @ Santa Fe
DESCRIPTION:Finance is the Language of Your Business ~ Know Your Numbers\n\nThe 2nd of a 3 Part Business Development Series
X-ALT-DESC;FMTTYPE=text/html:Finance is the Language of Your Business ~ Know Your Numbers<br />\nThe 2nd of a 3 Part Business Development Series
LOCATION:Amegy Bank~Santa Fe 13030 Highway 6 Santa Fe\, TX 77510
UID:e.451.5196
SEQUENCE:3
DTSTAMP:20260425T103850Z
URL:https://www.santafetxchamber.com/events/details/business-development-workshop-series-2-santa-fe-04-21-2016-5196
END:VEVENT

END:VCALENDAR
