BEGIN:VCALENDAR
VERSION:2.0
PRODID:-//ChamberMaster//Event Calendar 2.0//EN
METHOD:PUBLISH
X-PUBLISHED-TTL:P3D
REFRESH-INTERVAL:P3D
CALSCALE:GREGORIAN
BEGIN:VEVENT
DTSTART:20191121T233000Z
DTEND:20191122T010000Z
X-MICROSOFT-CDO-ALLDAYEVENT:FALSE
SUMMARY:Business & Brews
DESCRIPTION:This is a come and go event geared toward networking and getting to know your fellow business members.  This event can be hosted as a breakfast or an after hours.
X-ALT-DESC;FMTTYPE=text/html:This is a come and go event geared toward networking and getting to know your fellow business members.&nbsp\; This event can be hosted as a breakfast or an after hours.
LOCATION:November's host will be: ACU of Texas-Santa Fe 11934 FM 1764 Santa Fe\, Texas
UID:e.451.7800
SEQUENCE:3
DTSTAMP:20260422T155116Z
URL:https://www.santafetxchamber.com/events/details/business-brews-7800
END:VEVENT

END:VCALENDAR
