BEGIN:VCALENDAR
VERSION:2.0
PRODID:-//ChamberMaster//Event Calendar 2.0//EN
METHOD:PUBLISH
X-PUBLISHED-TTL:P3D
REFRESH-INTERVAL:P3D
CALSCALE:GREGORIAN
BEGIN:VEVENT
DTSTART:20191017T123000Z
DTEND:20191017T140000Z
X-MICROSOFT-CDO-ALLDAYEVENT:FALSE
SUMMARY:Business & Brews
DESCRIPTION:This is a come and go event geared toward networking and getting to know your fellow business members.  This event can be hosted as a breakfast or an after hours.
X-ALT-DESC;FMTTYPE=text/html:This is a come and go event geared toward networking and getting to know your fellow business members.&nbsp\; This event can be hosted as a breakfast or an after hours.
LOCATION:October's Host will be... Santa Fe City Hall 12002 Highway 6
UID:e.451.7675
SEQUENCE:3
DTSTAMP:20260422T171241Z
URL:https://www.santafetxchamber.com/events/details/business-brews-7675
END:VEVENT

END:VCALENDAR
