BEGIN:VCALENDAR
VERSION:2.0
PRODID:-//ChamberMaster//Event Calendar 2.0//EN
METHOD:PUBLISH
X-PUBLISHED-TTL:P3D
REFRESH-INTERVAL:P3D
CALSCALE:GREGORIAN
BEGIN:VEVENT
DTSTART:20190317T180000Z
DTEND:20190317T200000Z
X-MICROSOFT-CDO-ALLDAYEVENT:FALSE
SUMMARY:Bunco Fundraiser for Children's Miracle Network
DESCRIPTION:RE/MAX Crossroads Realty is hosting a St. Patrick's Day Bunco party benefitting the Children's Miracle Network.
X-ALT-DESC;FMTTYPE=text/html:RE/MAX Crossroads Realty is hosting a St. Patrick&#39\;s Day Bunco party benefitting the Children&#39\;s Miracle Network.
LOCATION:
UID:e.451.7011
SEQUENCE:3
DTSTAMP:20260423T033200Z
URL:https://www.santafetxchamber.com/events/details/bunco-fundraiser-for-children-s-miracle-network-7011
END:VEVENT

END:VCALENDAR
