BEGIN:VCALENDAR
VERSION:2.0
PRODID:-//ChamberMaster//Event Calendar 2.0//EN
METHOD:PUBLISH
X-PUBLISHED-TTL:P3D
REFRESH-INTERVAL:P3D
CALSCALE:GREGORIAN
BEGIN:VEVENT
DTSTART:20090926T233000Z
DTEND:20090927T013000Z
X-MICROSOFT-CDO-ALLDAYEVENT:FALSE
SUMMARY:Buffet Magic 2009
DESCRIPTION:Santa Fe Chamber of Commerce presents its 4th Annual Captain's Cuisine Buffet Magic 2009.  Please join us for gourmet tastings\, silent auction\, and entertainment.  Dinner ticket includes Chef's recipes of featured dishes.  Casual attire.
X-ALT-DESC;FMTTYPE=text/html:<div>\n	Santa Fe Chamber of Commerce presents its 4th Annual Captain&#39\;s Cuisine Buffet Magic 2009.&nbsp\; Please join us for gourmet tastings\, silent auction\, and entertainment.&nbsp\; Dinner ticket includes Chef&#39\;s recipes of featured dishes.&nbsp\; Casual attire.</div>\n
LOCATION:Santa Fe High School Cafeteria - 16000 Hwy. 6\, Santa Fe
UID:e.451.1011
SEQUENCE:3
DTSTAMP:20260421T102739Z
URL:https://www.santafetxchamber.com/events/details/buffet-magic-2009-09-26-2009-1011
END:VEVENT

END:VCALENDAR
