BEGIN:VCALENDAR
VERSION:2.0
PRODID:-//ChamberMaster//Event Calendar 2.0//EN
METHOD:PUBLISH
X-PUBLISHED-TTL:P3D
REFRESH-INTERVAL:P3D
CALSCALE:GREGORIAN
BEGIN:VEVENT
DTSTART:20171019T223000Z
DTEND:20171020T010000Z
X-MICROSOFT-CDO-ALLDAYEVENT:FALSE
SUMMARY:Bra Dazzle
DESCRIPTION:Santa Fe Chamber Women in Business\n\n7th Annual Bra Dazzle\n\nBenefitting Breast Cancer Awareness for Women in Galveston County
X-ALT-DESC;FMTTYPE=text/html:<p>Santa Fe Chamber Women in Business<br />\n7th Annual Bra Dazzle<br />\nBenefitting Breast Cancer Awareness for Women in Galveston County</p>\n
LOCATION:Haak Vineyards & Winery 6310 Ave. T Santa Fe\, TX 77510
UID:e.451.6419
SEQUENCE:3
DTSTAMP:20260424T070706Z
URL:https://www.santafetxchamber.com/events/details/bra-dazzle-6419
END:VEVENT

END:VCALENDAR
