BEGIN:VCALENDAR
VERSION:2.0
PRODID:-//ChamberMaster//Event Calendar 2.0//EN
METHOD:PUBLISH
X-PUBLISHED-TTL:P3D
REFRESH-INTERVAL:P3D
CALSCALE:GREGORIAN
BEGIN:VEVENT
DTSTART:20201022T223000Z
DTEND:20201023T010000Z
X-MICROSOFT-CDO-ALLDAYEVENT:FALSE
SUMMARY:Bra Dazzle - 2020
DESCRIPTION:10th Annual Bra Dazzle\n\nJoin us for an evening of delicious Hors d'oeuvres\, wine\, fun and fellowship!\n\nSupporting Breast Cancer Awareness\n\n\n\nHaak Vineyard's & Winery\n\n\n\n5:30p.m. to 8:00p.m.\n\nEvent tickets are $20\n\nSponsorship Table of 8 is $500\n\nReserved table of 8 is $300\n\n\n\nTickets/Wristbands and T-Shirts can also be purchased at Texas First Bank-Santa Fe
X-ALT-DESC;FMTTYPE=text/html:10th Annual Bra Dazzle<br />\nJoin us for an evening of delicious Hors d&#39\;oeuvres\, wine\, fun and fellowship!<br />\nSupporting Breast Cancer Awareness<br />\n<br />\nHaak Vineyard&#39\;s &amp\; Winery<br />\n<br />\n5:30p.m. to 8:00p.m.<br />\nEvent tickets are $20<br />\nSponsorship Table of 8 is $500<br />\nReserved table of 8 is $300<br />\n<br />\nTickets/Wristbands and T-Shirts can also be purchased at Texas First Bank-Santa Fe
LOCATION:
UID:e.451.7813
SEQUENCE:3
DTSTAMP:20260421T233028Z
URL:https://www.santafetxchamber.com/events/details/bra-dazzle-2020-7813
END:VEVENT

END:VCALENDAR
