BEGIN:VCALENDAR
VERSION:2.0
PRODID:-//ChamberMaster//Event Calendar 2.0//EN
METHOD:PUBLISH
X-PUBLISHED-TTL:P3D
REFRESH-INTERVAL:P3D
CALSCALE:GREGORIAN
BEGIN:VEVENT
DTSTART:20191024T223000Z
DTEND:20191025T010000Z
X-MICROSOFT-CDO-ALLDAYEVENT:FALSE
SUMMARY:Bra Dazzle - 2019
DESCRIPTION:Haak Vineyard's & Winery\n\n\n\n5:30p.m. to 8:00p.m.\n\nEvent tickets are $20\n\nReserved table of 8 is $300
X-ALT-DESC;FMTTYPE=text/html:Haak Vineyard&#39\;s &amp\; Winery<br />\n<br />\n5:30p.m. to 8:00p.m.<br />\nEvent tickets are $20<br />\nReserved table of 8 is $300
LOCATION:
UID:e.451.7257
SEQUENCE:3
DTSTAMP:20260422T171236Z
URL:https://www.santafetxchamber.com/events/details/bra-dazzle-2019-7257
END:VEVENT

END:VCALENDAR
