BEGIN:VCALENDAR
VERSION:2.0
PRODID:-//ChamberMaster//Event Calendar 2.0//EN
METHOD:PUBLISH
X-PUBLISHED-TTL:P3D
REFRESH-INTERVAL:P3D
CALSCALE:GREGORIAN
BEGIN:VEVENT
DTSTART:20181018T223000Z
DTEND:20181019T010000Z
X-MICROSOFT-CDO-ALLDAYEVENT:FALSE
SUMMARY:Bra Dazzle - 2018
DESCRIPTION:Bra Dazzle is a fun event hosted each year to raise awareness for breast cancer.
X-ALT-DESC;FMTTYPE=text/html:Bra Dazzle is a fun event hosted each year to raise awareness for breast cancer.
LOCATION:
UID:e.451.6638
SEQUENCE:3
DTSTAMP:20260423T131756Z
URL:https://www.santafetxchamber.com/events/details/bra-dazzle-2018-6638
END:VEVENT

END:VCALENDAR
