BEGIN:VCALENDAR
VERSION:2.0
PRODID:-//ChamberMaster//Event Calendar 2.0//EN
METHOD:PUBLISH
X-PUBLISHED-TTL:P3D
REFRESH-INTERVAL:P3D
CALSCALE:GREGORIAN
BEGIN:VEVENT
DTSTART:20190804T130000Z
DTEND:20190804T223000Z
X-MICROSOFT-CDO-ALLDAYEVENT:FALSE
SUMMARY:Boys and Girls Club of Greater Houston
DESCRIPTION:Teens 13-17\n\n\n\nCity of Santa Fe Resiliency Center\n\nlocated at Aldersgate United Methodist Church\n\n13217 FM 1764 in Santa Fe
X-ALT-DESC;FMTTYPE=text/html:Teens 13-17<br />\n<br />\nCity of Santa Fe Resiliency Center<br />\nlocated at Aldersgate United Methodist Church<br />\n13217 FM 1764 in Santa Fe
LOCATION:
UID:e.451.7329
SEQUENCE:3
DTSTAMP:20260422T223704Z
URL:https://www.santafetxchamber.com/events/details/boys-and-girls-club-of-greater-houston-08-04-2019-7329
END:VEVENT

END:VCALENDAR
